BEGIN:VCALENDAR
VERSION:2.0
PRODID:-//Verband Afghanischer Organisationen in Deutschland - ECPv6.15.20//NONSGML v1.0//EN
CALSCALE:GREGORIAN
METHOD:PUBLISH
X-WR-CALNAME:Verband Afghanischer Organisationen in Deutschland
X-ORIGINAL-URL:https://vafo.ngo
X-WR-CALDESC:Veranstaltungen für Verband Afghanischer Organisationen in Deutschland
REFRESH-INTERVAL;VALUE=DURATION:PT1H
X-Robots-Tag:noindex
X-PUBLISHED-TTL:PT1H
BEGIN:VTIMEZONE
TZID:Europe/Berlin
BEGIN:DAYLIGHT
TZOFFSETFROM:+0100
TZOFFSETTO:+0200
TZNAME:CEST
DTSTART:20250330T010000
END:DAYLIGHT
BEGIN:STANDARD
TZOFFSETFROM:+0200
TZOFFSETTO:+0100
TZNAME:CET
DTSTART:20251026T010000
END:STANDARD
BEGIN:DAYLIGHT
TZOFFSETFROM:+0100
TZOFFSETTO:+0200
TZNAME:CEST
DTSTART:20260329T010000
END:DAYLIGHT
BEGIN:STANDARD
TZOFFSETFROM:+0200
TZOFFSETTO:+0100
TZNAME:CET
DTSTART:20261025T010000
END:STANDARD
BEGIN:DAYLIGHT
TZOFFSETFROM:+0100
TZOFFSETTO:+0200
TZNAME:CEST
DTSTART:20270328T010000
END:DAYLIGHT
BEGIN:STANDARD
TZOFFSETFROM:+0200
TZOFFSETTO:+0100
TZNAME:CET
DTSTART:20271031T010000
END:STANDARD
END:VTIMEZONE
BEGIN:VEVENT
DTSTART;TZID=Europe/Berlin:20260516T140000
DTEND;TZID=Europe/Berlin:20260516T200000
DTSTAMP:20260423T235234
CREATED:20260415T094724Z
LAST-MODIFIED:20260415T104650Z
UID:5433-1778940000-1778961600@vafo.ngo
SUMMARY:Quo Vadis Afghanistan
DESCRIPTION:Liebe Engagierte\, Aktive und Interessierte\, \nim Rahmen des Projekts DIMA und in Kooperation mit Afghanistan-Komitee e.V. laden wir Sie herzlich\nzu unserer Veranstaltung „Quo vadis Afghanistan?“ ein. Es erwarten Sie zwei Vorträge\, die sich mit\nzentralen Fragen der entwicklungspolitischen Bildung und der Entwicklungszusammenarbeit\nzwischen Deutschland und Afghanistan befassen: \nWie kann Deutschland seine eigenen Werte und entwicklungspolitischen Ziele mit den politischen\nRealitäten in Afghanistan in Einklang bringen? Ist es möglich\, die afghanische Bevölkerung weiterhin\nzu unterstützen\, ohne mit dem derzeitigen Regime zusammenzuarbeiten? Welche alternativen Wege\ngibt es innerhalb der internationalen Gemeinschaft\, um insbesondere Frauen* und Mädchen* sowie\nprogressive Teile der Zivilgesellschaft nachhaltig zu stärken und gegebenenfalls zu schützen? \nIm Anschluss an die Vorträge bieten zwei vertiefende Workshops Raum für Austausch\, Diskussion und\ndie gemeinsame Erarbeitung von Perspektiven für zukünftiges entwicklungspolitisches Engagement. \nWir freuen uns sehr Sie am 16. Mai 2026 zu begrüßen. \nDie Teilnahme ist kostenfrei. Die Reihenfolge der Anmeldungen wird berücksichtigt.\nBitte leiten Sie diese Einladung auch gerne an Freund*innen\, Bekannte\, Kolleg*innen und andere\nInteressierte weiter – vielen Dank! \nAus organisatorischen Gründen bitten wir um eine schriftliche Anmeldung bis spätestens\n30.04.2026 per E-Mail an: afghanistan-komitee-berlin@outlook.de \nWir freuen uns auf Ihren Besuch! \nMit freundlichen Grüßen \nIhr moveGLOBAL- & Afghanistan-Komitee-Team \nEinladung und Programm
URL:https://vafo.ngo/event/quo-vadis-afghanistan/
LOCATION:Berlin\, Kurt-Schumacher-Haus\, Müllerstraße 163\, 13353\, Berlin\, Germany
ATTACH;FMTTYPE=image/jpeg:https://vafo.ngo/wp-content/uploads/2026/04/AF-Komitee_eV-300x300-1.jpg
END:VEVENT
END:VCALENDAR